BEGIN:VCALENDAR
VERSION:2.0
PRODID:-//wp-events-plugin.com//6.4.6.4//EN
TZID:Asia/Singapore
X-WR-TIMEZONE:Asia/Singapore
BEGIN:VEVENT
UID:17@singaporewomeninscience.org
DTSTART;TZID=Asia/Singapore:20220928T173000
DTEND;TZID=Asia/Singapore:20220928T183000
DTSTAMP:20231127T145536Z
URL:https://www.singaporewomeninscience.org/events/a-talk-by-alena-salakho
 va-and-kay-dhupar-on-overcoming-the-gender-gap-in-stem-for-the-future-of-o
 ur-tomorrow/
SUMMARY:A talk by Alena Salakhova and Kay Dhupar on Overcoming the Gender G
 ap in STEM for the future of our tomorrow
DESCRIPTION:To register for this talk\, click HERE\n\n
LOCATION:https://ihis.zoom.us/meeting/register/tJYkduGvpj0tHtQiUJDMjbFUMqFs
 rsuYc3HK
END:VEVENT
BEGIN:VTIMEZONE
TZID:Asia/Singapore
X-LIC-LOCATION:Asia/Singapore
BEGIN:STANDARD
DTSTART:20210928T173000
TZOFFSETFROM:+0800
TZOFFSETTO:+0800
TZNAME:+08
END:STANDARD
END:VTIMEZONE
END:VCALENDAR